BEGIN:VCALENDAR
VERSION:2.0
PRODID:-//Squarespace Inc/Squarespace 6//v6//EN
BEGIN:VEVENT
UID:58b127c6bebafbde494572dd@squarespace.com
DTSTAMP:20180107T062946Z
DTSTART:20190101T200000Z
DTEND:20190102T010000Z
SUMMARY:Mangawhai Annual Summer Gala
GEO:-36.128805;174.567695
LOCATION:Mangawhai Domain\, 75 Moir Street\, Mangawhai\, Northland\, 0505\, 
 New Zealand
END:VEVENT
END:VCALENDAR
